BEGIN:VCALENDAR
VERSION:2.0
PRODID:-//תיאטרון עכו - ECPv6.3.3.1//NONSGML v1.0//EN
CALSCALE:GREGORIAN
METHOD:PUBLISH
X-ORIGINAL-URL:https://www.acco-tc.com
X-WR-CALDESC:אירועים ל תיאטרון עכו
REFRESH-INTERVAL;VALUE=DURATION:PT1H
X-Robots-Tag:noindex
X-PUBLISHED-TTL:PT1H
BEGIN:VTIMEZONE
TZID:Asia/Jerusalem
BEGIN:DAYLIGHT
TZOFFSETFROM:+0200
TZOFFSETTO:+0300
TZNAME:IDT
DTSTART:20260327T000000
END:DAYLIGHT
BEGIN:STANDARD
TZOFFSETFROM:+0300
TZOFFSETTO:+0200
TZNAME:IST
DTSTART:20261024T230000
END:STANDARD
END:VTIMEZONE
BEGIN:VEVENT
DTSTART;TZID=Asia/Jerusalem:20260416T200000
DTEND;TZID=Asia/Jerusalem:20260416T200000
DTSTAMP:20260420T133502
CREATED:20251225T213041Z
LAST-MODIFIED:20251225T215929Z
UID:10032-1776369600-1776369600@www.acco-tc.com
SUMMARY:שלא יגמר לי 16/4/26 | מחול
DESCRIPTION:כרטיסים\n		\n					\n		\n				\n				\n				\n				\n					\n			\n						\n						טריילר\n		\n					\n		\n				\n				\n					\n				\n		\n					\n				\n				\n					\n			\n						\n		\n				\n				\n					\n				\n		\n					\n				\n				\n			מופע כלול בתכנית המנויים 		\n				\n					\n				\n		\n					\n				\n				\n					\n			\n						\n						מידע ורכישת מנוי\n		\n					\n		\n				\n				\n				\n				\n					\n			\n						\n						הזמנת כרטיס לבעלי מנוי\n		\n					\n		\n				\n				\n					\n				\n		\n					\n				\n				\n					\n						\n				\n					 תקציר \n							\n			\n			\n		\n\n						\n				\n					\n				\n				\n							מופע בין תנועה למילה מאת אהרונה ישראל המופע ׳מדריך למתעמל׳ חוזר בזמן לרגע בו החלה להיווצר בארץ תרבות של חינוך גופני בעברית\,ומתחקה אחר השיעורים שהועברו ע״י המורה המיתולוגי צבי נשרי\, בגימנסיה הרצליה בת״א.המחול מבוסס על מחקר ארכיוני של תרגילי התעמלות המושמים בהקשר כוריאוגרפי עכשווי.בצידו טקסט המצוטט מרשימותיו של נשרי\, המשקף בהומור אירוני את מערכת היחסים בין תנועהלמילה ובין העבר להווה הישראלי. המופע מציף את המתח העומד בבסיס הישראליות בין הסובייקטלסדר המערכתי ובין ציות לאי-ציות\, תוך שהוא חושף מטען תרבותי הקיים בגוף הישראלי מימי ראשיתהקמת המדינה.מן הביקורת:״מופע אינטיליגנטי משובץ בלא מעט הומור״ד״ר סמדר שפי / החלון ״עבודת מחול מרתקת\, שמביאה לנו זווית מעניינת על החברה הישראלית״אביבה רוזן/ בילוי נעים ״יצירה עכשווית רלוונטית\, מופע רב פנים המשלב היסטוריה\, אמנות ופוליטיקה״נירה פרי/ סלונההמופע ׳מדריך למתעמל׳ נוצר בהמשך למחקר ועבודת וידאו-ארט מאת אהרונה ישראל שהוצגהבתערוכת האמנים השנתית ב׳מוזיאון העיר׳ ת״א-יפו בשנים 2023-2024.המופע הופק בתמיכת משרד התרבות והספורט\, מוזיאון ׳בית העיר׳\, עיריית ת״א-יפו ועמותתהכוריאוגרפים. 						\n				\n					\n				\n					\n						\n				\n					 פרטים ומועדים נוספים  \n							\n			\n			\n		\n\n						\n				\n		\n				\n				\n							תאריך 18/06/2025 חמישי שעה 19:30 פתיחת דלתות | 20:00 מופע מקום תיאטרון עכו\, ויצמן 1 | אולם  מידע נוסף  						\n				\n				\n				\n					\n						\n				\n					 יוצרים  \n							\n			\n			\n		\n\n						\n				\n				\n				\n							קרדיטים:קונספט וכוריאוגרפיה: אהרונה ישראלרקדנים יוצרים: אור ששי\, גילי גבע\, אופיר קונש\, אהרונה ישראללחן\, עיבוד מוזיקלי והדרכה קולית לשיר סיום: אודי רזהדרכה טקסטואלית לתיאטרון: בהט קלצ'יתלבושות: מלאני לומברדעיצוב תאורה: ליאור לויןאדפטציה לתאורה: אמיר קסטרוהפקה וניהול חזרות: חני בן טוב-אורןשיפוץ שולחן: שרון צ'רניאקצילום תמונה: עלמה גבעוניתודות:טלי גוזולצני קרן – מרכז הגר״א ת״א-יפוניקול דוקלסקי – מרכז נווה עופר ת״-יפומתן אורן – ת״א תרבות קריית המלאכה ת״איעל שנברגר מנהלת קריאטיב אתא חברת הטקסטיליובל מסקין\, ניר וידן\, יובל גל\, ענת דניאלי\, חני בן טוב-אורן\, טלי זבילביץ׳\, שרונה פלורסהיים\, שרון צ'רניאק.
URL:https://www.acco-tc.com/event/%d7%a9%d7%9c%d7%90-%d7%99%d7%92%d7%9e%d7%a8-%d7%9c%d7%99-16-4-26-%d7%9e%d7%97%d7%95%d7%9c/
LOCATION:תיאטרון עכו\, ויצמן 1\, עכו
CATEGORIES:מופעי מחול,פרינג' בצפון
ATTACH;FMTTYPE=image/jpeg:https://www.acco-tc.com/wp-content/uploads/2025/12/שלא-יגמר-לי-תמונה.jpeg
END:VEVENT
BEGIN:VEVENT
DTSTART;TZID=Asia/Jerusalem:20260219T200000
DTEND;TZID=Asia/Jerusalem:20260219T200000
DTSTAMP:20260420T133502
CREATED:20251225T172412Z
LAST-MODIFIED:20251225T224348Z
UID:9964-1771531200-1771531200@www.acco-tc.com
SUMMARY:דיסקו בייבי 19/2/26 | מחול
DESCRIPTION:כרטיסים\n		\n					\n		\n				\n				\n				\n				\n					\n			\n						\n						טריילר\n		\n					\n		\n				\n				\n					\n				\n		\n					\n				\n				\n					\n			\n						\n		\n				\n				\n					\n				\n		\n					\n				\n				\n			מופע כלול בתכנית המנויים 		\n				\n					\n				\n		\n					\n				\n				\n					\n			\n						\n						מידע ורכישת מנוי\n		\n					\n		\n				\n				\n				\n				\n					\n			\n						\n						הזמנת כרטיס לבעלי מנוי\n		\n					\n		\n				\n				\n					\n				\n		\n					\n				\n				\n					\n						\n				\n					 תקציר \n							\n			\n			\n		\n\n						\n				\n					\n				\n				\n							מופע בין תנועה למילה מאת אהרונה ישראל המופע ׳מדריך למתעמל׳ חוזר בזמן לרגע בו החלה להיווצר בארץ תרבות של חינוך גופני בעברית\,ומתחקה אחר השיעורים שהועברו ע״י המורה המיתולוגי צבי נשרי\, בגימנסיה הרצליה בת״א.המחול מבוסס על מחקר ארכיוני של תרגילי התעמלות המושמים בהקשר כוריאוגרפי עכשווי.בצידו טקסט המצוטט מרשימותיו של נשרי\, המשקף בהומור אירוני את מערכת היחסים בין תנועהלמילה ובין העבר להווה הישראלי. המופע מציף את המתח העומד בבסיס הישראליות בין הסובייקטלסדר המערכתי ובין ציות לאי-ציות\, תוך שהוא חושף מטען תרבותי הקיים בגוף הישראלי מימי ראשיתהקמת המדינה.מן הביקורת:״מופע אינטיליגנטי משובץ בלא מעט הומור״ד״ר סמדר שפי / החלון ״עבודת מחול מרתקת\, שמביאה לנו זווית מעניינת על החברה הישראלית״אביבה רוזן/ בילוי נעים ״יצירה עכשווית רלוונטית\, מופע רב פנים המשלב היסטוריה\, אמנות ופוליטיקה״נירה פרי/ סלונההמופע ׳מדריך למתעמל׳ נוצר בהמשך למחקר ועבודת וידאו-ארט מאת אהרונה ישראל שהוצגהבתערוכת האמנים השנתית ב׳מוזיאון העיר׳ ת״א-יפו בשנים 2023-2024.המופע הופק בתמיכת משרד התרבות והספורט\, מוזיאון ׳בית העיר׳\, עיריית ת״א-יפו ועמותתהכוריאוגרפים. 						\n				\n					\n				\n					\n						\n				\n					 פרטים ומועדים נוספים  \n							\n			\n			\n		\n\n						\n				\n		\n				\n				\n							תאריך 18/06/2025 חמישי שעה 19:30 פתיחת דלתות | 20:00 מופע מקום תיאטרון עכו\, ויצמן 1 | אולם  מידע נוסף  						\n				\n				\n				\n					\n						\n				\n					 יוצרים  \n							\n			\n			\n		\n\n						\n				\n				\n				\n							קרדיטים:קונספט וכוריאוגרפיה: אהרונה ישראלרקדנים יוצרים: אור ששי\, גילי גבע\, אופיר קונש\, אהרונה ישראללחן\, עיבוד מוזיקלי והדרכה קולית לשיר סיום: אודי רזהדרכה טקסטואלית לתיאטרון: בהט קלצ'יתלבושות: מלאני לומברדעיצוב תאורה: ליאור לויןאדפטציה לתאורה: אמיר קסטרוהפקה וניהול חזרות: חני בן טוב-אורןשיפוץ שולחן: שרון צ'רניאקצילום תמונה: עלמה גבעוניתודות:טלי גוזולצני קרן – מרכז הגר״א ת״א-יפוניקול דוקלסקי – מרכז נווה עופר ת״-יפומתן אורן – ת״א תרבות קריית המלאכה ת״איעל שנברגר מנהלת קריאטיב אתא חברת הטקסטיליובל מסקין\, ניר וידן\, יובל גל\, ענת דניאלי\, חני בן טוב-אורן\, טלי זבילביץ׳\, שרונה פלורסהיים\, שרון צ'רניאק.
URL:https://www.acco-tc.com/event/discobabydance/
LOCATION:תיאטרון עכו\, ויצמן 1\, עכו
CATEGORIES:מופעי מחול,פרינג' בצפון
ATTACH;FMTTYPE=image/jpeg:https://www.acco-tc.com/wp-content/uploads/2025/12/DSC05935-Photo-by-Efrat-Mazor_-scaled.jpg
END:VEVENT
END:VCALENDAR